BEGIN:VCALENDAR
VERSION:2.0
PRODID:-//Περιφερειακή Ενότητα Γρεβενών - ECPv6.15.15//NONSGML v1.0//EN
CALSCALE:GREGORIAN
METHOD:PUBLISH
X-WR-CALNAME:Περιφερειακή Ενότητα Γρεβενών
X-ORIGINAL-URL:https://grevena.pdm.gov.gr
X-WR-CALDESC:Events for Περιφερειακή Ενότητα Γρεβενών
REFRESH-INTERVAL;VALUE=DURATION:PT1H
X-Robots-Tag:noindex
X-PUBLISHED-TTL:PT1H
BEGIN:VTIMEZONE
TZID:Europe/Athens
BEGIN:DAYLIGHT
TZOFFSETFROM:+0200
TZOFFSETTO:+0300
TZNAME:EEST
DTSTART:20250330T010000
END:DAYLIGHT
BEGIN:STANDARD
TZOFFSETFROM:+0300
TZOFFSETTO:+0200
TZNAME:EET
DTSTART:20251026T010000
END:STANDARD
BEGIN:DAYLIGHT
TZOFFSETFROM:+0200
TZOFFSETTO:+0300
TZNAME:EEST
DTSTART:20260329T010000
END:DAYLIGHT
BEGIN:STANDARD
TZOFFSETFROM:+0300
TZOFFSETTO:+0200
TZNAME:EET
DTSTART:20261025T010000
END:STANDARD
BEGIN:DAYLIGHT
TZOFFSETFROM:+0200
TZOFFSETTO:+0300
TZNAME:EEST
DTSTART:20270328T010000
END:DAYLIGHT
BEGIN:STANDARD
TZOFFSETFROM:+0300
TZOFFSETTO:+0200
TZNAME:EET
DTSTART:20271031T010000
END:STANDARD
END:VTIMEZONE
BEGIN:VEVENT
DTSTART;TZID=Europe/Athens:20260508T080000
DTEND;TZID=Europe/Athens:20260510T150000
DTSTAMP:20260422T124701
CREATED:20260420T080653Z
LAST-MODIFIED:20260420T080653Z
UID:22217-1778227200-1778425200@grevena.pdm.gov.gr
SUMMARY:Πανελλήνιο Πρωτάθλημα και το Πανελλήνιο Κύπελλο Enduro 2026
DESCRIPTION:Το Πανελλήνιο Πρωτάθλημα και το Πανελλήνιο Κύπελλο Enduro έρχονται για άλλη μια χρονιά στα Γρεβενά! \nΟ Μοτοσυκλετιστικός Όμιλος Γρεβενών (Μ.Ο.Γ.)\, ένα σωματείο με μεγάλη ιστορία και εμπειρία σε πολύ σημαντικές διοργανώσεις σε τοπικό\, περιφερειακό\, εθνικό\, βαλκανικό και παγκόσμιο επίπεδο διοργανώνει για άλλη μια χρονιά στα Γρεβενά το Πανελλήνιο Πρωτάθλημα και το Πανελλήνιο Κύπελλο Enduro κατά το χρονικό διάστημα από Παρασκευή 8 έως και 10 Μαΐου 2026. \nΗ Περιφερειακή Ενότητα Γρεβενών για άλλη μια χρονιά στηρίζει τη διοργάνωση και καλεί τους πολίτες να υποστηρίξουν τους αθλητές\, να τους δώσουν το πιο ζεστό τους χειροκρότημα\, αναδείξουν τη γρεβενιώτικη φιλοξενία. \nΜείνετε συντονισμένοι για περισσότερες πληροφορίες.
URL:https://grevena.pdm.gov.gr/event/panellinio-protathlima-kai-to-panellinio-kypello-enduro-2026/
ATTACH;FMTTYPE=image/jpeg:https://grevena.pdm.gov.gr/wp-content/uploads/2026/04/enduro.jpg
END:VEVENT
END:VCALENDAR