BEGIN:VCALENDAR
VERSION:2.0
PRODID:-//Περιφερειακή Ενότητα Γρεβενών - ECPv6.15.15//NONSGML v1.0//EN
CALSCALE:GREGORIAN
METHOD:PUBLISH
X-ORIGINAL-URL:https://grevena.pdm.gov.gr
X-WR-CALDESC:Events for Περιφερειακή Ενότητα Γρεβενών
REFRESH-INTERVAL;VALUE=DURATION:PT1H
X-Robots-Tag:noindex
X-PUBLISHED-TTL:PT1H
BEGIN:VTIMEZONE
TZID:Europe/Athens
BEGIN:DAYLIGHT
TZOFFSETFROM:+0200
TZOFFSETTO:+0300
TZNAME:EEST
DTSTART:20250330T010000
END:DAYLIGHT
BEGIN:STANDARD
TZOFFSETFROM:+0300
TZOFFSETTO:+0200
TZNAME:EET
DTSTART:20251026T010000
END:STANDARD
BEGIN:DAYLIGHT
TZOFFSETFROM:+0200
TZOFFSETTO:+0300
TZNAME:EEST
DTSTART:20260329T010000
END:DAYLIGHT
BEGIN:STANDARD
TZOFFSETFROM:+0300
TZOFFSETTO:+0200
TZNAME:EET
DTSTART:20261025T010000
END:STANDARD
BEGIN:DAYLIGHT
TZOFFSETFROM:+0200
TZOFFSETTO:+0300
TZNAME:EEST
DTSTART:20270328T010000
END:DAYLIGHT
BEGIN:STANDARD
TZOFFSETFROM:+0300
TZOFFSETTO:+0200
TZNAME:EET
DTSTART:20271031T010000
END:STANDARD
END:VTIMEZONE
BEGIN:VEVENT
DTSTART;TZID=Europe/Athens:20260421T113000
DTEND;TZID=Europe/Athens:20260430T230000
DTSTAMP:20260423T042221
CREATED:20260421T091437Z
LAST-MODIFIED:20260421T091437Z
UID:22240-1776771000-1777590000@grevena.pdm.gov.gr
SUMMARY:1° Πανελλήνιο Μαθητικό Φεστιβάλ Αρχαίου και Σύγχρονου Θεάτρου «ΕΡΑΜΑΙ ΜΕΓΑ»
DESCRIPTION:1° Πανελλήνιο Μαθητικό Φεστιβάλ Αρχαίου και Σύγχρονου Θεάτρου «ΕΡΑΜΑΙ ΜΕΓΑ» στα Γρεβενά \nΓια πρώτη φορά στα Γρεβενά θα πραγματοποιηθεί πανελλήνιο μαθητικό φεστιβάλ αρχαίου και σύγχρονου θεάτρου\, που θα φέρει το όνομα «ΕΡΑΜΑΙ ΜΕΓΑ». Το όνομα του φεστιβάλ προέρχεται από την εγχάρακτη επιγραφή του δαχτυλιδιού που βρέθηκε στην αρχαιολογική θέση Καστρί Γρεβενών. \nΣτο φεστιβάλ θα διαρκέσει από 21 έως και 30 Απριλίου 2026\, θα συμμετέχουν μαθητές από διάφορα μέρη της Ελλάδας. \n \nΗ πρόσκληση: \n \n  \nΤο πρόγραμμα των παραστάσεων: \n \n  \nΤην Τετάρτη 29 Απριλίου 2026 στις 21:00 θα παρουσιαστεί η παράσταση “ΕΛΕΝΗ” του Ευρυπίδη από τη γρεβενιώτικη θεατρική ομάδα “Εξ αμάξης” (Μικρή Σκηνή) \n \n  \n 
URL:https://grevena.pdm.gov.gr/event/1-panellinio-mathitiko-festival-archaiou-kai-sygchronou-theatrou-eramai-mega/
LOCATION:Κέντρο Πολιτισμού\, 13ης Οκτωβρίου 27\, Γρεβενά\, 51100\, Ελλάδα
ATTACH;FMTTYPE=image/jpeg:https://grevena.pdm.gov.gr/wp-content/uploads/2026/04/EramaiMega2026.jpg
END:VEVENT
END:VCALENDAR