BEGIN:VCALENDAR
VERSION:2.0
PRODID:-//Περιφερειακή Ενότητα Γρεβενών - ECPv6.15.15//NONSGML v1.0//EN
CALSCALE:GREGORIAN
METHOD:PUBLISH
X-ORIGINAL-URL:https://grevena.pdm.gov.gr
X-WR-CALDESC:Events for Περιφερειακή Ενότητα Γρεβενών
REFRESH-INTERVAL;VALUE=DURATION:PT1H
X-Robots-Tag:noindex
X-PUBLISHED-TTL:PT1H
BEGIN:VTIMEZONE
TZID:Europe/Athens
BEGIN:DAYLIGHT
TZOFFSETFROM:+0200
TZOFFSETTO:+0300
TZNAME:EEST
DTSTART:20250330T010000
END:DAYLIGHT
BEGIN:STANDARD
TZOFFSETFROM:+0300
TZOFFSETTO:+0200
TZNAME:EET
DTSTART:20251026T010000
END:STANDARD
BEGIN:DAYLIGHT
TZOFFSETFROM:+0200
TZOFFSETTO:+0300
TZNAME:EEST
DTSTART:20260329T010000
END:DAYLIGHT
BEGIN:STANDARD
TZOFFSETFROM:+0300
TZOFFSETTO:+0200
TZNAME:EET
DTSTART:20261025T010000
END:STANDARD
BEGIN:DAYLIGHT
TZOFFSETFROM:+0200
TZOFFSETTO:+0300
TZNAME:EEST
DTSTART:20270328T010000
END:DAYLIGHT
BEGIN:STANDARD
TZOFFSETFROM:+0300
TZOFFSETTO:+0200
TZNAME:EET
DTSTART:20271031T010000
END:STANDARD
END:VTIMEZONE
BEGIN:VEVENT
DTSTART;TZID=Europe/Athens:20260502T173000
DTEND;TZID=Europe/Athens:20260502T203000
DTSTAMP:20260422T152958
CREATED:20260421T101033Z
LAST-MODIFIED:20260421T101240Z
UID:22254-1777743000-1777753800@grevena.pdm.gov.gr
SUMMARY:Αποχαιρετισμός της Πασχαλιάς στις Αμυγδαλιές
DESCRIPTION:Αποχαιρετισμός της Πασχαλιάς 2026 στις Αμυγδαλιές Γρεβενών \nΟ Πολιτιστικός Σύλλογος Αμυγδαλιών Γρεβενών “Η Αμυγδαλιά” διοργανώνει και μας προσκαλεί στην ετήσια εκδήλωση για τον αποχαιρετισμό της Πασχαλιάς.
URL:https://grevena.pdm.gov.gr/event/apochairetismos-tis-paschalias-stis-amygdalies/
LOCATION:Αμυγδαλιές Γρεβενών
ATTACH;FMTTYPE=image/jpeg:https://grevena.pdm.gov.gr/wp-content/uploads/2026/04/apoxairetismos2026.jpg
END:VEVENT
END:VCALENDAR